BEGIN:VCALENDAR
VERSION:2.0
PRODID:-//192.185.99.127//NONSGML kigkonsult.se iCalcreator 2.20//
CALSCALE:GREGORIAN
METHOD:PUBLISH
X-WR-CALNAME:Athboy Community School
X-WR-CALDESC:Athboy Community School at the centre of our community
X-FROM-URL:http://athboycs.ie
X-WR-TIMEZONE:Europe/Dublin
BEGIN:VTIMEZONE
TZID:Europe/Dublin
X-LIC-LOCATION:Europe/Dublin
BEGIN:STANDARD
DTSTART:20171029T020000
TZOFFSETFROM:+0100
TZOFFSETTO:+0000
TZNAME:GMT
END:STANDARD
BEGIN:DAYLIGHT
DTSTART:20180325T010000
TZOFFSETFROM:+0000
TZOFFSETTO:+0100
TZNAME:IST
END:DAYLIGHT
END:VTIMEZONE
BEGIN:VEVENT
UID:ai1ec-1673@athboycs.ie
DTSTAMP:20171030T210306Z
CATEGORIES:
CONTACT:
DESCRIPTION:<p>Summative Assessment 2 exams begin this week for First\, Sec
 ond and Fifth Year pupils.</p>
DTSTART;VALUE=DATE:20150223
DTEND;VALUE=DATE:20150224
SEQUENCE:0
SUMMARY:Summative Assessments 2
URL:http://athboycs.ie/event/summative-assessments-2/
END:VEVENT
END:VCALENDAR
