BEGIN:VCALENDAR
VERSION:2.0
PRODID:-//192.185.99.127//NONSGML kigkonsult.se iCalcreator 2.20//
CALSCALE:GREGORIAN
METHOD:PUBLISH
X-WR-CALNAME:Athboy Community School
X-WR-CALDESC:Athboy Community School at the centre of our community
X-FROM-URL:http://athboycs.ie
X-WR-TIMEZONE:Europe/Dublin
BEGIN:VTIMEZONE
TZID:Europe/Dublin
X-LIC-LOCATION:Europe/Dublin
BEGIN:STANDARD
DTSTART:20171029T020000
TZOFFSETFROM:+0100
TZOFFSETTO:+0000
TZNAME:GMT
END:STANDARD
BEGIN:DAYLIGHT
DTSTART:20180325T010000
TZOFFSETFROM:+0000
TZOFFSETTO:+0100
TZNAME:IST
END:DAYLIGHT
END:VTIMEZONE
BEGIN:VEVENT
UID:ai1ec-1896@athboycs.ie
DTSTAMP:20171030T210420Z
CATEGORIES:
CONTACT:
DESCRIPTION:<p>Second\, Third and Leaving Cert and Leaving Cert Applied Yea
 r 2 pupils return today.</p>
DTSTART;VALUE=DATE:20150902
DTEND;VALUE=DATE:20150903
SEQUENCE:0
SUMMARY:Second Day of Term
URL:http://athboycs.ie/event/second-day-of-term/
END:VEVENT
END:VCALENDAR
