BEGIN:VCALENDAR
VERSION:2.0
PRODID:-//192.185.99.127//NONSGML kigkonsult.se iCalcreator 2.20//
CALSCALE:GREGORIAN
METHOD:PUBLISH
X-WR-CALNAME:Athboy Community School
X-WR-CALDESC:Athboy Community School at the centre of our community
X-FROM-URL:http://athboycs.ie
X-WR-TIMEZONE:Europe/Dublin
BEGIN:VTIMEZONE
TZID:Europe/Dublin
X-LIC-LOCATION:Europe/Dublin
BEGIN:STANDARD
DTSTART:20171029T020000
TZOFFSETFROM:+0100
TZOFFSETTO:+0000
TZNAME:GMT
END:STANDARD
BEGIN:DAYLIGHT
DTSTART:20180325T010000
TZOFFSETFROM:+0000
TZOFFSETTO:+0100
TZNAME:IST
END:DAYLIGHT
END:VTIMEZONE
BEGIN:VEVENT
UID:ai1ec-1897@athboycs.ie
DTSTAMP:20171030T210509Z
CATEGORIES:
CONTACT:
DESCRIPTION:Fifth Year and Leaving Certificate Applied Year 1 return for cl
 asses today.
DTSTART;VALUE=DATE:20150903
DTEND;VALUE=DATE:20150904
SEQUENCE:0
SUMMARY:Third Day of Term
URL:http://athboycs.ie/event/third-day-of-term/
X-ALT-DESC;FMTTYPE=text/html:<!DOCTYPE HTML PUBLIC '-//W3C//DTD HTML 3.2//E
 N'>\\n<HTML>\\n<HEAD>\\n<TITLE></TITLE>\\n</HEAD>\\n<BODY><p>Fifth Year an
 d Leaving Certificate Applied Year 1 return for classes today.</p>\n</BODY
 ></HTML>
END:VEVENT
END:VCALENDAR
