BEGIN:VCALENDAR
VERSION:2.0
PRODID:-//192.185.99.127//NONSGML kigkonsult.se iCalcreator 2.20//
CALSCALE:GREGORIAN
METHOD:PUBLISH
X-WR-CALNAME:Athboy Community School
X-WR-CALDESC:Athboy Community School at the centre of our community
X-FROM-URL:http://athboycs.ie
X-WR-TIMEZONE:Europe/Dublin
BEGIN:VTIMEZONE
TZID:Europe/Dublin
X-LIC-LOCATION:Europe/Dublin
BEGIN:STANDARD
DTSTART:20171029T020000
TZOFFSETFROM:+0100
TZOFFSETTO:+0000
TZNAME:GMT
END:STANDARD
BEGIN:DAYLIGHT
DTSTART:20180325T010000
TZOFFSETFROM:+0000
TZOFFSETTO:+0100
TZNAME:IST
END:DAYLIGHT
END:VTIMEZONE
BEGIN:VEVENT
UID:ai1ec-1900@athboycs.ie
DTSTAMP:20171030T210608Z
CATEGORIES:
CONTACT:
DESCRIPTION:<p>Study Skills workshops for Second Years will take place in s
 chool this morning.  A workshop for staff will be held after school and a 
 separate workshop for parents/guardians of all pupils will take place at 7
 .30 p.m. tonight (6th October 2015) in the Lecture Room.</p>
DTSTART;VALUE=DATE:20151006
DTEND;VALUE=DATE:20151007
SEQUENCE:0
SUMMARY:Study Skills Talks
URL:http://athboycs.ie/event/study-skills-talks/
END:VEVENT
END:VCALENDAR
