BEGIN:VCALENDAR
VERSION:2.0
PRODID:-//192.185.99.127//NONSGML kigkonsult.se iCalcreator 2.20//
CALSCALE:GREGORIAN
METHOD:PUBLISH
X-WR-CALNAME:Athboy Community School
X-WR-CALDESC:Athboy Community School at the centre of our community
X-FROM-URL:http://athboycs.ie
X-WR-TIMEZONE:Europe/Dublin
BEGIN:VTIMEZONE
TZID:Europe/Dublin
X-LIC-LOCATION:Europe/Dublin
BEGIN:STANDARD
DTSTART:20171029T020000
TZOFFSETFROM:+0100
TZOFFSETTO:+0000
TZNAME:GMT
END:STANDARD
BEGIN:DAYLIGHT
DTSTART:20180325T010000
TZOFFSETFROM:+0000
TZOFFSETTO:+0100
TZNAME:IST
END:DAYLIGHT
END:VTIMEZONE
BEGIN:VEVENT
UID:ai1ec-2867@athboycs.ie
DTSTAMP:20171030T205313Z
CATEGORIES:
CONTACT:
DESCRIPTION:A Parent Teacher Meeting for Transition Year\, Fifth Year and L
 eaving Certificate Applied Year 1 pupils will take place from 4.15 p.m. to
  6.45 p.m.
DTSTART;TZID=Europe/Dublin:20180306T174500
DTEND;TZID=Europe/Dublin:20180306T184500
SEQUENCE:0
SUMMARY:Parent Teacher Meeting for Fifth Year\, TY and LCA1
URL:http://athboycs.ie/event/parent-teacher-meeting-for-fifth-year-ty-and-l
 ca1/
X-COST-TYPE:free
X-ALT-DESC;FMTTYPE=text/html:<!DOCTYPE HTML PUBLIC '-//W3C//DTD HTML 3.2//E
 N'>\\n<HTML>\\n<HEAD>\\n<TITLE></TITLE>\\n</HEAD>\\n<BODY><p>A Parent Teac
 her Meeting for Transition Year\, Fifth Year and Leaving Certificate Appli
 ed Year 1 pupils will take place from 4.15 p.m. to 6.45 p.m.</p>\n</BODY><
 /HTML>
END:VEVENT
END:VCALENDAR
