BEGIN:VCALENDAR
VERSION:2.0
PRODID:-//192.185.99.127//NONSGML kigkonsult.se iCalcreator 2.20//
CALSCALE:GREGORIAN
METHOD:PUBLISH
X-WR-CALNAME:Athboy Community School
X-WR-CALDESC:Athboy Community School at the centre of our community
X-FROM-URL:http://athboycs.ie
X-WR-TIMEZONE:Europe/Dublin
BEGIN:VTIMEZONE
TZID:Europe/Dublin
X-LIC-LOCATION:Europe/Dublin
BEGIN:STANDARD
DTSTART:20171029T020000
TZOFFSETFROM:+0100
TZOFFSETTO:+0000
TZNAME:GMT
END:STANDARD
BEGIN:DAYLIGHT
DTSTART:20180325T010000
TZOFFSETFROM:+0000
TZOFFSETTO:+0100
TZNAME:IST
END:DAYLIGHT
END:VTIMEZONE
BEGIN:VEVENT
UID:ai1ec-2869@athboycs.ie
DTSTAMP:20171030T203518Z
CATEGORIES:
CONTACT:
DESCRIPTION:<p>A Parent Teacher Meeting for First Year pupils will take pla
 ce from 4.15 p.m. to 6.45 p.m.</p>
DTSTART;TZID=Europe/Dublin:20180322T161500
DTEND;TZID=Europe/Dublin:20180322T184500
SEQUENCE:0
SUMMARY:Parent Teacher Meeting for First Years
URL:http://athboycs.ie/event/parent-teacher-meeting-for-first-years-2/
X-COST-TYPE:free
END:VEVENT
END:VCALENDAR
