BEGIN:VCALENDAR
VERSION:2.0
PRODID:-//192.185.99.127//NONSGML kigkonsult.se iCalcreator 2.20//
CALSCALE:GREGORIAN
METHOD:PUBLISH
X-WR-CALNAME:Athboy Community School
X-WR-CALDESC:Athboy Community School at the centre of our community
X-FROM-URL:http://athboycs.ie
X-WR-TIMEZONE:Europe/Dublin
BEGIN:VTIMEZONE
TZID:Europe/Dublin
X-LIC-LOCATION:Europe/Dublin
BEGIN:STANDARD
DTSTART:20171029T020000
TZOFFSETFROM:+0100
TZOFFSETTO:+0000
TZNAME:GMT
END:STANDARD
BEGIN:DAYLIGHT
DTSTART:20180325T010000
TZOFFSETFROM:+0000
TZOFFSETTO:+0100
TZNAME:IST
END:DAYLIGHT
END:VTIMEZONE
BEGIN:VEVENT
UID:ai1ec-2870@athboycs.ie
DTSTAMP:20171030T203451Z
CATEGORIES:
CONTACT:
DESCRIPTION:Mock Examination for Junior and Leaving Certificate pupils will
  take place from the week beginning Monday 29th January to Friday 9th Febr
 uary.
DTSTART;VALUE=DATE:20180129
DTEND;VALUE=DATE:20180210
SEQUENCE:0
SUMMARY:Mock Examinations
URL:http://athboycs.ie/event/mock-examinations-4/
X-COST-TYPE:free
X-ALT-DESC;FMTTYPE=text/html:<!DOCTYPE HTML PUBLIC '-//W3C//DTD HTML 3.2//E
 N'>\\n<HTML>\\n<HEAD>\\n<TITLE></TITLE>\\n</HEAD>\\n<BODY><p>Mock Examinat
 ion for Junior and Leaving Certificate pupils will take place from the wee
 k beginning Monday 29th January to Friday 9th February.</p>\n</BODY></HTML
 >
END:VEVENT
END:VCALENDAR
