BEGIN:VCALENDAR
VERSION:2.0
PRODID:-//192.185.99.127//NONSGML kigkonsult.se iCalcreator 2.20//
CALSCALE:GREGORIAN
METHOD:PUBLISH
X-WR-CALNAME:Athboy Community School
X-WR-CALDESC:Athboy Community School at the centre of our community
X-FROM-URL:http://athboycs.ie
X-WR-TIMEZONE:Europe/Dublin
BEGIN:VTIMEZONE
TZID:Europe/Dublin
X-LIC-LOCATION:Europe/Dublin
BEGIN:STANDARD
DTSTART:20171029T020000
TZOFFSETFROM:+0100
TZOFFSETTO:+0000
TZNAME:GMT
END:STANDARD
BEGIN:DAYLIGHT
DTSTART:20180325T010000
TZOFFSETFROM:+0000
TZOFFSETTO:+0100
TZNAME:IST
END:DAYLIGHT
END:VTIMEZONE
BEGIN:VEVENT
UID:ai1ec-2872@athboycs.ie
DTSTAMP:20171030T203615Z
CATEGORIES:
CONTACT:
DESCRIPTION:<p>Summative Assessment 2 examinations will take place for Firs
 t\, Second and Fifth year pupils from 7th to 9th February</p>
DTSTART;TZID=Europe/Dublin:20180207T154500
DTEND;TZID=Europe/Dublin:20180209T164500
SEQUENCE:0
SUMMARY:Summative Assessment 2
URL:http://athboycs.ie/event/summative-assessment-2/
X-COST-TYPE:free
END:VEVENT
END:VCALENDAR
